BEGIN:VCALENDAR
VERSION:2.0
PRODID:-//Umåker Stall 10 B - ECPv6.10.0//NONSGML v1.0//EN
CALSCALE:GREGORIAN
METHOD:PUBLISH
X-WR-CALNAME:Umåker Stall 10 B
X-ORIGINAL-URL:https://www.stall10b.se
X-WR-CALDESC:Events for Umåker Stall 10 B
REFRESH-INTERVAL;VALUE=DURATION:PT1H
X-Robots-Tag:noindex
X-PUBLISHED-TTL:PT1H
BEGIN:VTIMEZONE
TZID:UTC
BEGIN:STANDARD
TZOFFSETFROM:+0000
TZOFFSETTO:+0000
TZNAME:UTC
DTSTART:20160101T000000
END:STANDARD
TZID:Europe/Stockholm
BEGIN:DAYLIGHT
TZOFFSETFROM:+0100
TZOFFSETTO:+0200
TZNAME:CEST
DTSTART:20150329T010000
END:DAYLIGHT
BEGIN:STANDARD
TZOFFSETFROM:+0200
TZOFFSETTO:+0100
TZNAME:CET
DTSTART:20151025T010000
END:STANDARD
END:VTIMEZONE
BEGIN:VEVENT
DTSTART;TZID=UTC:20160103T120000
DTEND;TZID=UTC:20160103T150000
DTSTAMP:20260423T001348
CREATED:20151222T101612Z
LAST-MODIFIED:20151222T112414Z
UID:4637-1451822400-1451833200@www.stall10b.se
SUMMARY:Öppet Hus
DESCRIPTION:Söndag 3/1: Öppet hus kl 12-15. Upplev häst och Prova på att köra häst.\nJulshowsuppvisning kl 13.30 av travskolans ponnyer.
URL:https://www.stall10b.se/handelse/oppet-hus/
LOCATION:Umåker
END:VEVENT
BEGIN:VEVENT
DTSTART;TZID=Europe/Stockholm:20150816T120000
DTEND;TZID=Europe/Stockholm:20150816T160000
DTSTAMP:20260423T001348
CREATED:20150213T090513Z
LAST-MODIFIED:20150213T090513Z
UID:4457-1439726400-1439740800@www.stall10b.se
SUMMARY:Ponnytrav
DESCRIPTION:Ponnytrav med Guldstoet Kat. A samt Dubbelhelgsmästaren Kat. B.
URL:https://www.stall10b.se/handelse/ponnytrav-2/
END:VEVENT
BEGIN:VEVENT
DTSTART;TZID=Europe/Stockholm:20150814T180000
DTEND;TZID=Europe/Stockholm:20150814T210000
DTSTAMP:20260423T001348
CREATED:20150213T090415Z
LAST-MODIFIED:20150213T090415Z
UID:4456-1439575200-1439586000@www.stall10b.se
SUMMARY:Ponnytrav
DESCRIPTION:
URL:https://www.stall10b.se/handelse/ponnytrav/
END:VEVENT
BEGIN:VEVENT
DTSTART;TZID=Europe/Stockholm:20150426T120000
DTEND;TZID=Europe/Stockholm:20150426T170000
DTSTAMP:20260423T001348
CREATED:20150213T085136Z
LAST-MODIFIED:20150213T085136Z
UID:4455-1430049600-1430067600@www.stall10b.se
SUMMARY:Heldag Ponnytrav
DESCRIPTION:
URL:https://www.stall10b.se/handelse/heldag-ponnytrav/
END:VEVENT
BEGIN:VEVENT
DTSTART;TZID=Europe/Stockholm:20150228T173000
DTEND;TZID=Europe/Stockholm:20150228T210000
DTSTAMP:20260423T001348
CREATED:20150213T083751Z
LAST-MODIFIED:20150213T083751Z
UID:4453-1425144600-1425157200@www.stall10b.se
SUMMARY:Ponnytravgala!
DESCRIPTION:
URL:https://www.stall10b.se/handelse/ponnytravgala/
LOCATION:Umåker\, Spiltan
END:VEVENT
END:VCALENDAR