BEGIN:VCALENDAR
VERSION:2.0
PRODID:-//Umåker Stall 10 B - ECPv6.10.0//NONSGML v1.0//EN
CALSCALE:GREGORIAN
METHOD:PUBLISH
X-WR-CALNAME:Umåker Stall 10 B
X-ORIGINAL-URL:https://www.stall10b.se
X-WR-CALDESC:Events for Umåker Stall 10 B
REFRESH-INTERVAL;VALUE=DURATION:PT1H
X-Robots-Tag:noindex
X-PUBLISHED-TTL:PT1H
BEGIN:VTIMEZONE
TZID:Europe/Stockholm
BEGIN:DAYLIGHT
TZOFFSETFROM:+0100
TZOFFSETTO:+0200
TZNAME:CEST
DTSTART:20150329T010000
END:DAYLIGHT
BEGIN:STANDARD
TZOFFSETFROM:+0200
TZOFFSETTO:+0100
TZNAME:CET
DTSTART:20151025T010000
END:STANDARD
BEGIN:DAYLIGHT
TZOFFSETFROM:+0100
TZOFFSETTO:+0200
TZNAME:CEST
DTSTART:20160327T010000
END:DAYLIGHT
BEGIN:STANDARD
TZOFFSETFROM:+0200
TZOFFSETTO:+0100
TZNAME:CET
DTSTART:20161030T010000
END:STANDARD
BEGIN:DAYLIGHT
TZOFFSETFROM:+0100
TZOFFSETTO:+0200
TZNAME:CEST
DTSTART:20170326T010000
END:DAYLIGHT
BEGIN:STANDARD
TZOFFSETFROM:+0200
TZOFFSETTO:+0100
TZNAME:CET
DTSTART:20171029T010000
END:STANDARD
BEGIN:DAYLIGHT
TZOFFSETFROM:+0100
TZOFFSETTO:+0200
TZNAME:CEST
DTSTART:20180325T010000
END:DAYLIGHT
BEGIN:STANDARD
TZOFFSETFROM:+0200
TZOFFSETTO:+0100
TZNAME:CET
DTSTART:20181028T010000
END:STANDARD
BEGIN:DAYLIGHT
TZOFFSETFROM:+0100
TZOFFSETTO:+0200
TZNAME:CEST
DTSTART:20190331T010000
END:DAYLIGHT
BEGIN:STANDARD
TZOFFSETFROM:+0200
TZOFFSETTO:+0100
TZNAME:CET
DTSTART:20191027T010000
END:STANDARD
BEGIN:DAYLIGHT
TZOFFSETFROM:+0100
TZOFFSETTO:+0200
TZNAME:CEST
DTSTART:20200329T010000
END:DAYLIGHT
BEGIN:STANDARD
TZOFFSETFROM:+0200
TZOFFSETTO:+0100
TZNAME:CET
DTSTART:20201025T010000
END:STANDARD
BEGIN:DAYLIGHT
TZOFFSETFROM:+0100
TZOFFSETTO:+0200
TZNAME:CEST
DTSTART:20210328T010000
END:DAYLIGHT
BEGIN:STANDARD
TZOFFSETFROM:+0200
TZOFFSETTO:+0100
TZNAME:CET
DTSTART:20211031T010000
END:STANDARD
BEGIN:DAYLIGHT
TZOFFSETFROM:+0100
TZOFFSETTO:+0200
TZNAME:CEST
DTSTART:20220327T010000
END:DAYLIGHT
BEGIN:STANDARD
TZOFFSETFROM:+0200
TZOFFSETTO:+0100
TZNAME:CET
DTSTART:20221030T010000
END:STANDARD
BEGIN:DAYLIGHT
TZOFFSETFROM:+0100
TZOFFSETTO:+0200
TZNAME:CEST
DTSTART:20230326T010000
END:DAYLIGHT
BEGIN:STANDARD
TZOFFSETFROM:+0200
TZOFFSETTO:+0100
TZNAME:CET
DTSTART:20231029T010000
END:STANDARD
TZID:UTC
BEGIN:STANDARD
TZOFFSETFROM:+0000
TZOFFSETTO:+0000
TZNAME:UTC
DTSTART:20160101T000000
END:STANDARD
END:VTIMEZONE
BEGIN:VEVENT
DTSTART;TZID=Europe/Stockholm:20230819T120000
DTEND;TZID=Europe/Stockholm:20230819T160000
DTSTAMP:20260422T032121
CREATED:20230628T100604Z
LAST-MODIFIED:20230628T100604Z
UID:5159-1692446400-1692460800@www.stall10b.se
SUMMARY:Ponnytrav
DESCRIPTION: 
URL:https://www.stall10b.se/handelse/ponnytrav-3/
LOCATION:Umåker – Möjlighternas Arena\, Travbanevägen 50\, Röbäck\, Sverige
END:VEVENT
BEGIN:VEVENT
DTSTART;TZID=Europe/Stockholm:20230618T110000
DTEND;TZID=Europe/Stockholm:20230618T180000
DTSTAMP:20260422T032121
CREATED:20230529T100123Z
LAST-MODIFIED:20230529T100413Z
UID:5149-1687086000-1687111200@www.stall10b.se
SUMMARY:Familjedag m Dolly Style\, Daniel Kane och trav
DESCRIPTION:Börja sommarlovet på Umåker!\nSöndag 18 juni\, kl 11-18\, kommer vi att ha en familjedag på Umåker. Det blir uppträdande av Dolly Style och trollkaren Daniel Kane. Vi kommer att ha ett barnland med hoppborgar\, ponnyridning\, ansiktsmålning och fiskdamm. Dessutom kommer Hemglassbilen och bjuder alla barn på glass. \nTravtävlingar med första start 14.00 \nFri entré för barn i målsmans sällskap. Vuxna betalar 150kr.\nKöp billjetter redan nu  på travfest.se. Välkommen!
URL:https://www.stall10b.se/handelse/familjedag-m-dolly-style-daniel-kane-och-trav/
LOCATION:Umåker – Möjlighternas Arena\, Travbanevägen 50\, Röbäck\, Sverige
END:VEVENT
BEGIN:VEVENT
DTSTART;TZID=Europe/Stockholm:20221105T120000
DTEND;TZID=Europe/Stockholm:20221105T153000
DTSTAMP:20260422T032121
CREATED:20220629T111758Z
LAST-MODIFIED:20220629T111758Z
UID:5103-1667649600-1667662200@www.stall10b.se
SUMMARY:Ponnytrav 5 november Umåker
DESCRIPTION:Årets sista ponnytravdag på Umåker. \nVarmt välkomna!
URL:https://www.stall10b.se/handelse/ponnytrav-5-november-umaker/
LOCATION:Umåker
END:VEVENT
BEGIN:VEVENT
DTSTART;VALUE=DATE:20220829
DTEND;VALUE=DATE:20220830
DTSTAMP:20260422T032121
CREATED:20220629T112059Z
LAST-MODIFIED:20220629T112127Z
UID:5105-1661731200-1661817599@www.stall10b.se
SUMMARY:Terminsstart Hösten 2022
DESCRIPTION:Höstterminen börjar V. 35. \nPris: 85kr/timme \nVid frågor: Kontakta Linnea.lundgren@umaker.travsport.se
URL:https://www.stall10b.se/handelse/terminsstart/
LOCATION:Travskolan Umåker\, Travbanevägen 50\, Röbäck\, 90440\, Sverige
END:VEVENT
BEGIN:VEVENT
DTSTART;TZID=Europe/Stockholm:20220821T120000
DTEND;TZID=Europe/Stockholm:20220821T160000
DTSTAMP:20260422T032121
CREATED:20220629T111602Z
LAST-MODIFIED:20220629T111602Z
UID:5101-1661083200-1661097600@www.stall10b.se
SUMMARY:Ponnytrav 21 augusti Umåker
DESCRIPTION:Den 21 augusti kör vi divisionsfinaler för ponnytrav på Umåker. En fullspäckad dag med spännade autolopp och årets upplaga av storloppet Dvärgbjörken 2022. \nVarmt välkomna!
URL:https://www.stall10b.se/handelse/ponnytrav-21-augusti-umaker/
LOCATION:Umåker
END:VEVENT
BEGIN:VEVENT
DTSTART;TZID=Europe/Stockholm:20220619T120000
DTEND;TZID=Europe/Stockholm:20220619T160000
DTSTAMP:20260422T032121
CREATED:20220506T114837Z
LAST-MODIFIED:20220506T115358Z
UID:5089-1655640000-1655654400@www.stall10b.se
SUMMARY:Ponnytrav 19 Juni Umåker
DESCRIPTION:Välkomna att heja fram alla Umåkers ekipage på årets första ponnytravdag på Umåker!
URL:https://www.stall10b.se/handelse/ponnytrav-19-juni-umaker/
LOCATION:Umåker
END:VEVENT
BEGIN:VEVENT
DTSTART;TZID=Europe/Stockholm:20220514T140000
DTEND;TZID=Europe/Stockholm:20220514T210000
DTSTAMP:20260422T032121
CREATED:20220506T115221Z
LAST-MODIFIED:20220506T115221Z
UID:5091-1652536800-1652562000@www.stall10b.se
SUMMARY:Travfest - STL 14 Maj
DESCRIPTION:Topptävlingar\nBarnland\nServering mat & dryck\nSpel på V75
URL:https://www.stall10b.se/handelse/travfest-stl-14-maj/
LOCATION:Umåker
END:VEVENT
BEGIN:VEVENT
DTSTART;TZID=Europe/Stockholm:20190816T180000
DTEND;TZID=Europe/Stockholm:20190818T180000
DTSTAMP:20260422T032121
CREATED:20190806T113958Z
LAST-MODIFIED:20190806T113958Z
UID:4992-1565978400-1566151200@www.stall10b.se
SUMMARY:Ponnytrav 16 & 18 Augusti Umåker
DESCRIPTION:Varmt Välkomna till vårt dubbeltrav! \nKom och hejja fram våra duktiga ekipage från travskolan.\nFörsta start Fredag: 18.00\nFörsta start Söndag: 12.00 \n 
URL:https://www.stall10b.se/handelse/ponnytrav-16-18-augusti-umaker/
END:VEVENT
BEGIN:VEVENT
DTSTART;TZID=Europe/Stockholm:20160918T140000
DTEND;TZID=Europe/Stockholm:20160918T180000
DTSTAMP:20260422T032121
CREATED:20160824T071528Z
LAST-MODIFIED:20160824T071528Z
UID:4712-1474207200-1474221600@www.stall10b.se
SUMMARY:Schyssta kompisar
DESCRIPTION:Under hösten pågår turnén Schyssta kompisar. Åtta regionala träffar kommer att anordnas under september\, oktober och november. Du som ung i travsporten\, oavsett koppling till travet\, är varmt välkommen till en träff kring gemenskap och hur vi bemöter varandra\, på och utanför travbanan\, men också på nätet och i sociala medier. Den 18 september kommer ”Schyssta kompisar” till Umåker. \nPlats: Big Spender\nTid: Söndag 18 september\, kl. 14.00 – 18.00 \nVi bjuder på lättare mat/fika så anmäl dig gärna till hanna.norring@travsport.se om du kommer\, har specialkost eller hör av dig om du har någon fråga.
URL:https://www.stall10b.se/handelse/schyssta-kompisar/
LOCATION:Umåker
END:VEVENT
BEGIN:VEVENT
DTSTART;TZID=UTC:20160507T120000
DTEND;TZID=UTC:20160507T150000
DTSTAMP:20260422T032121
CREATED:20160506T070725Z
LAST-MODIFIED:20160506T071503Z
UID:4666-1462622400-1462633200@www.stall10b.se
SUMMARY:Ponnytravtävlingar
DESCRIPTION:Ponnytravtävlingar med nio lopp. Första start 12:00. \nRestaurang Travaren är öppen och det finns försäljning av Köttbullar\, Tacos\, Hamburgare och Mjukglass. \nFri entré och fri parkering! Hjärtligt välkomna!
URL:https://www.stall10b.se/handelse/ponnytravtavlingar/
LOCATION:Umåker
END:VEVENT
BEGIN:VEVENT
DTSTART;TZID=UTC:20160103T120000
DTEND;TZID=UTC:20160103T150000
DTSTAMP:20260422T032121
CREATED:20151222T101612Z
LAST-MODIFIED:20151222T112414Z
UID:4637-1451822400-1451833200@www.stall10b.se
SUMMARY:Öppet Hus
DESCRIPTION:Söndag 3/1: Öppet hus kl 12-15. Upplev häst och Prova på att köra häst.\nJulshowsuppvisning kl 13.30 av travskolans ponnyer.
URL:https://www.stall10b.se/handelse/oppet-hus/
LOCATION:Umåker
END:VEVENT
BEGIN:VEVENT
DTSTART;TZID=Europe/Stockholm:20150816T120000
DTEND;TZID=Europe/Stockholm:20150816T160000
DTSTAMP:20260422T032121
CREATED:20150213T090513Z
LAST-MODIFIED:20150213T090513Z
UID:4457-1439726400-1439740800@www.stall10b.se
SUMMARY:Ponnytrav
DESCRIPTION:Ponnytrav med Guldstoet Kat. A samt Dubbelhelgsmästaren Kat. B.
URL:https://www.stall10b.se/handelse/ponnytrav-2/
END:VEVENT
BEGIN:VEVENT
DTSTART;TZID=Europe/Stockholm:20150814T180000
DTEND;TZID=Europe/Stockholm:20150814T210000
DTSTAMP:20260422T032121
CREATED:20150213T090415Z
LAST-MODIFIED:20150213T090415Z
UID:4456-1439575200-1439586000@www.stall10b.se
SUMMARY:Ponnytrav
DESCRIPTION:
URL:https://www.stall10b.se/handelse/ponnytrav/
END:VEVENT
BEGIN:VEVENT
DTSTART;TZID=Europe/Stockholm:20150426T120000
DTEND;TZID=Europe/Stockholm:20150426T170000
DTSTAMP:20260422T032121
CREATED:20150213T085136Z
LAST-MODIFIED:20150213T085136Z
UID:4455-1430049600-1430067600@www.stall10b.se
SUMMARY:Heldag Ponnytrav
DESCRIPTION:
URL:https://www.stall10b.se/handelse/heldag-ponnytrav/
END:VEVENT
BEGIN:VEVENT
DTSTART;TZID=Europe/Stockholm:20150228T173000
DTEND;TZID=Europe/Stockholm:20150228T210000
DTSTAMP:20260422T032121
CREATED:20150213T083751Z
LAST-MODIFIED:20150213T083751Z
UID:4453-1425144600-1425157200@www.stall10b.se
SUMMARY:Ponnytravgala!
DESCRIPTION:
URL:https://www.stall10b.se/handelse/ponnytravgala/
LOCATION:Umåker\, Spiltan
END:VEVENT
END:VCALENDAR