BEGIN:VCALENDAR
VERSION:2.0
PRODID:-//Umåker Stall 10 B - ECPv6.10.0//NONSGML v1.0//EN
CALSCALE:GREGORIAN
METHOD:PUBLISH
X-ORIGINAL-URL:https://www.stall10b.se
X-WR-CALDESC:Events for Umåker Stall 10 B
REFRESH-INTERVAL;VALUE=DURATION:PT1H
X-Robots-Tag:noindex
X-PUBLISHED-TTL:PT1H
BEGIN:VTIMEZONE
TZID:Europe/Stockholm
BEGIN:DAYLIGHT
TZOFFSETFROM:+0100
TZOFFSETTO:+0200
TZNAME:CEST
DTSTART:20220327T010000
END:DAYLIGHT
BEGIN:STANDARD
TZOFFSETFROM:+0200
TZOFFSETTO:+0100
TZNAME:CET
DTSTART:20221030T010000
END:STANDARD
END:VTIMEZONE
BEGIN:VEVENT
DTSTART;VALUE=DATE:20220829
DTEND;VALUE=DATE:20220830
DTSTAMP:20260425T021334
CREATED:20220629T112059Z
LAST-MODIFIED:20220629T112127Z
UID:5105-1661731200-1661817599@www.stall10b.se
SUMMARY:Terminsstart Hösten 2022
DESCRIPTION:Höstterminen börjar V. 35. \nPris: 85kr/timme \nVid frågor: Kontakta Linnea.lundgren@umaker.travsport.se
URL:https://www.stall10b.se/handelse/terminsstart/
LOCATION:Travskolan Umåker\, Travbanevägen 50\, Röbäck\, 90440\, Sverige
END:VEVENT
END:VCALENDAR