BEGIN:VCALENDAR
VERSION:2.0
PRODID:-//Umåker Stall 10 B - ECPv6.10.0//NONSGML v1.0//EN
CALSCALE:GREGORIAN
METHOD:PUBLISH
X-ORIGINAL-URL:https://www.stall10b.se
X-WR-CALDESC:Events for Umåker Stall 10 B
REFRESH-INTERVAL;VALUE=DURATION:PT1H
X-Robots-Tag:noindex
X-PUBLISHED-TTL:PT1H
BEGIN:VTIMEZONE
TZID:Europe/Stockholm
BEGIN:DAYLIGHT
TZOFFSETFROM:+0100
TZOFFSETTO:+0200
TZNAME:CEST
DTSTART:20220327T010000
END:DAYLIGHT
BEGIN:STANDARD
TZOFFSETFROM:+0200
TZOFFSETTO:+0100
TZNAME:CET
DTSTART:20221030T010000
END:STANDARD
END:VTIMEZONE
BEGIN:VEVENT
DTSTART;TZID=Europe/Stockholm:20220821T120000
DTEND;TZID=Europe/Stockholm:20220821T160000
DTSTAMP:20260425T033205
CREATED:20220629T111602Z
LAST-MODIFIED:20220629T111602Z
UID:5101-1661083200-1661097600@www.stall10b.se
SUMMARY:Ponnytrav 21 augusti Umåker
DESCRIPTION:Den 21 augusti kör vi divisionsfinaler för ponnytrav på Umåker. En fullspäckad dag med spännade autolopp och årets upplaga av storloppet Dvärgbjörken 2022. \nVarmt välkomna!
URL:https://www.stall10b.se/handelse/ponnytrav-21-augusti-umaker/
LOCATION:Umåker
END:VEVENT
END:VCALENDAR